BEGIN:VCALENDAR
VERSION:2.0
PRODID:-//Ugsel 44 - ECPv6.15.20//NONSGML v1.0//EN
CALSCALE:GREGORIAN
METHOD:PUBLISH
X-WR-CALNAME:Ugsel 44
X-ORIGINAL-URL:https://www.ugsel44.fr
X-WR-CALDESC:Évènements pour Ugsel 44
REFRESH-INTERVAL;VALUE=DURATION:PT1H
X-Robots-Tag:noindex
X-PUBLISHED-TTL:PT1H
BEGIN:VTIMEZONE
TZID:Europe/Paris
BEGIN:DAYLIGHT
TZOFFSETFROM:+0100
TZOFFSETTO:+0200
TZNAME:CEST
DTSTART:20230326T010000
END:DAYLIGHT
BEGIN:STANDARD
TZOFFSETFROM:+0200
TZOFFSETTO:+0100
TZNAME:CET
DTSTART:20231029T010000
END:STANDARD
BEGIN:DAYLIGHT
TZOFFSETFROM:+0100
TZOFFSETTO:+0200
TZNAME:CEST
DTSTART:20240331T010000
END:DAYLIGHT
BEGIN:STANDARD
TZOFFSETFROM:+0200
TZOFFSETTO:+0100
TZNAME:CET
DTSTART:20241027T010000
END:STANDARD
BEGIN:DAYLIGHT
TZOFFSETFROM:+0100
TZOFFSETTO:+0200
TZNAME:CEST
DTSTART:20250330T010000
END:DAYLIGHT
BEGIN:STANDARD
TZOFFSETFROM:+0200
TZOFFSETTO:+0100
TZNAME:CET
DTSTART:20251026T010000
END:STANDARD
END:VTIMEZONE
BEGIN:VEVENT
DTSTART;TZID=Europe/Paris:20240207T090000
DTEND;TZID=Europe/Paris:20240207T170000
DTSTAMP:20260422T235730
CREATED:20231128T143903Z
LAST-MODIFIED:20231128T143939Z
UID:12455-1707296400-1707325200@www.ugsel44.fr
SUMMARY:C.O. & Biathlon
DESCRIPTION:
URL:https://www.ugsel44.fr/event/c-o-biathlon
LOCATION:Vioreau
CATEGORIES:2D,Sports de Pleine Nature
END:VEVENT
BEGIN:VEVENT
DTSTART;TZID=Europe/Paris:20240214T090000
DTEND;TZID=Europe/Paris:20240214T173000
DTSTAMP:20260422T235730
CREATED:20231128T144247Z
LAST-MODIFIED:20231128T144306Z
UID:12461-1707901200-1707931800@www.ugsel44.fr
SUMMARY:Escalade Bloc & Difficulté
DESCRIPTION:
URL:https://www.ugsel44.fr/event/escalade-bloc-difficulte
LOCATION:Nozay – Nort s/Erdre
CATEGORIES:2D,Sports de Pleine Nature
END:VEVENT
END:VCALENDAR